Workbook
Name _18_for_Public_Sector_Assets: 'B2. HTT Public Sector Assets'!$A$18
Name ACT: OFFSET(#REF!,0,0,COUNTA(#REF!),COUNTA(#REF!))
Name ADA: OFFSET(#REF!,0,0,COUNTA(#REF!),COUNTA(#REF!))
Name ADA_Previous: OFFSET(#REF!,0,0,COUNTA(#REF!),COUNTA(#REF!))
Name CB_Swap_Collateral_Rpt: OFFSET(#REF!,0,0,COUNTA(#REF!),COUNTA(#REF!))
Name Clear_Sign_Off: #REF!
Name Clear_Sign_Off: #REF!
Name Collateral: OFFSET(#REF!,0,0,COUNTA(#REF!),COUNTA(#REF!))
Name Collateral: OFFSET(#REF!,0,0,COUNTA(#REF!),COUNTA(#REF!))
Name Counterparty_Ratings_Rpt: OFFSET(#REF!,0,0,COUNTA(#REF!),COUNTA(#REF!))
Name Counterparty_Ratings_Rpt_Prev: OFFSET([1]Counterparty_Ratings_Rpt_Prev!$A$1,0,0,COUNTA([1]Counterparty_Ratings_Rpt_Prev!$A:$A),COUNTA([1]Counterparty_Ratings_Rpt_Prev!$1:$1))
Name Date_Reference: #REF!
Name Date_Reference: #REF!
Name EventsTriggers: OFFSET(#REF!,0,0,COUNTA(#REF!),COUNTA(#REF!))
Name Final_Submission_File_Name: #REF!
Name Final_Submission_File_Name: #REF!
Name Fitch_Submission_Name: #REF!
Name Fitch_Submission_Name: #REF!
Name Fitch_temp: #REF!
Name Fitch_temp: #REF!
Name general_tc: Disclaimer!$A$61
Name HTT_Temp: #REF!
Name HTT_Temp: #REF!
Name IR_File: #REF!
Name IR_File: #REF!
Name Ledger_Rpt: OFFSET(#REF!,0,0,COUNTA(#REF!),COUNTA(#REF!))
Name Ledger_Rpt_Previous: OFFSET(#REF!,0,0,COUNTA(#REF!),COUNTA(#REF!))
Name Ledger_Rpt_Previous2: OFFSET(#REF!,0,0,COUNTA(#REF!),COUNTA(#REF!))
Name Madeal_rpt: OFFSET(#REF!,0,0,COUNTA(#REF!),COUNTA(#REF!))
Name Madeal_rpt_Previous: OFFSET(#REF!,0,0,COUNTA(#REF!),COUNTA(#REF!))
Name Pool_Movement: OFFSET(#REF!,0,0,COUNTA(#REF!),COUNTA(#REF!))
Name privacy_policy: Disclaimer!$A$136
Name Procedures_Sign_Off: #REF!
Name Procedures_Sign_Off: #REF!
Name Redemptions: OFFSET(#REF!,0,0,COUNTA(#REF!),COUNTA(#REF!))
Name Review_Sign_Off: #REF!
Name Review_Sign_Off: #REF!
Name Save_New_Template_Sign_Off: #REF!
Name Save_New_Template_Sign_Off: #REF!
Name Strats: OFFSET(#REF!,0,0,COUNTA(#REF!),COUNTA(#REF!))
Name Swaps: OFFSET(#REF!,0,0,COUNTA(#REF!),COUNTA(#REF!))
Name Swaps_Previous: OFFSET(#REF!,0,0,COUNTA(#REF!),COUNTA(#REF!))
Name Tranche_Rate: OFFSET(#REF!,0,0,COUNTA(#REF!),COUNTA(#REF!))
Name Tranche_Rpt: OFFSET(#REF!,0,0,COUNTA(#REF!),COUNTA(#REF!))
Name Tranche_Rpt: OFFSET(#REF!,0,0,COUNTA(#REF!),COUNTA(#REF!))
Name Tranche_Rpt_Previous: OFFSET(#REF!,0,0,COUNTA(#REF!),COUNTA(#REF!))
Name Trust_Rpt: OFFSET(#REF!,0,0,COUNTA(#REF!),COUNTA(#REF!))
Name Trust_Rpt_Previous: OFFSET(#REF!,0,0,COUNTA(#REF!),COUNTA(#REF!))

Sheet Disclaimer
A1: Disclaimer - Important notices
A4: (i) The Product Information displayed on this Site has been uploaded by the Issuers of the relevant Products. None of the information displayed on this Site shall form the basis of any contract. Any User of this Site will be required to acknowledge that it has not relied on, or been induced to enter into any contract by, any representation or warranty.
A5: (ii) The Covered Bond Label Foundation has not independently verified the Product Information displayed on this Site. Accordingly, no representation, warranty or undertaking, express or implied, is made, and no responsibility is accepted, by the Covered Bond Label Foundation as to or in relation to the accuracy or completeness or otherwise of such Product Information."
A6: (iii) The information provided on or accessible through the Site is not intended for distribution to, or use by, any person or entity in any jurisdiction where such distribution or use would be contrary to local law, or which would subject us or any Issuer, to any authorisation, registration or other requirement within such jurisdiction. You agree not to use or export the information or materials available on or through this Site in violation of laws in your jurisdiction.
A8: TERMS OF USE
A9: This website www.coveredbondlabel.com (the "Site") is owned and operated by the Covered Bond Label Foundation (the Covered Bond Label Foundation together with its affiliates, "we" or "us") a Private Foundation (fondation privée / private stichting) registered in Belgium; whose registered office is at Rue de la Science 14 - 1040 Brussels - Belgium and registered under number 500.950.659 (RPR/RPM Brussels).
A10: The Site is intended for use as a directory of information relating to certain covered bond products ("Products") (the "Product Information") by an issuer of ("Issuer"), or potential investor in ("Investor"), such Products (an Issuer, Investor, or any other person accessing this Site, each a "User" or "you"). The Product Information is provided by each relevant Issuer, and remains at all times the sole responsibility of the relevant Issuer. We have not independently verified any Product Information, nor reviewed whether any Product for which information is available on the Site actually is a covered bond product. This Site or any label made available through it does not constitute, nor contain, any form of credit rating, any offer to sell (or the solicitation of an offer to purchase) any Product, nor does it constitute a recommendation, or investment advice (or any other type of advice) upon which reliance should be placed.
A11: These terms and conditions together with the documents referred to in them set out the terms of use ("T&Cs") on which (a) an Issuer; (b) Investor; or (c) any other User, may make use of the Site. Section A applies primarily to Investors, and Section B applies primarily to Issuers. The General T&Cs in Section C apply to all Users.
A12: Our Acceptable Use Policy and Privacy Policy are incorporated into these T&Cs.
A13: Please read the T&Cs carefully before you start to use the Site. By clicking 'Accept' you indicate that you accept these T&Cs and that you agree to abide by them.
A14: If any provision of these T&Cs shall be deemed unlawful, void or for any reason unenforceable, then that provision shall be deemed severable from these terms and shall not affect the validity and enforceability of any remaining provisions.
A16: SECTION A. INVESTOR T&Cs
... A169: If you have any questions about this policy, the collection and use of your personal information or other privacy-specific concerns please contact us by clicking on Contact Us .

Sheet Introduction
F5: Harmonised Transparency Template
E6: 2026 Version
F7: United Kingdom
F8: Coventry Building Society
F9: Reporting Date: 31/10/26
F10: Cut-off Date: 30/09/26
F22: Index
D24: Worksheet A: HTT General | E24: Tab 1: Harmonised Transparency Template
D26: Worksheet B1: HTT Mortgage Assets
D28: Worksheet B2: HTT Public Sector Assets | E28: Tab 1: Harmonised Transparency Template
D30: Worksheet B3: HTT Shipping Assets | E30: Tab 1: Harmonised Transparency Template
D32: Worksheet C: HTT Harmonised Glossary | E32: Tab 1: Harmonised Transparency Template
D34: Covered Bond Label Disclaimer | E34: Tab 1: Harmonised Transparency Template
D36: Worksheet D & Onwards (If Any): National Transparency Template
D38: Worksheet E: Optional ECB-ECAIs data
D40: Worksheet F1: Sustainable M data | E40: Tab 1: Harmonised Transparency Template

Sheet FAQ
A1: Frequently Asked Questions (FAQ)
A2: Please delete this tab once you have completed this file
C4: Harmonised Transparency Template - Frequently Asked Questions
A5: General Questions
A6: Question 1: What is the structure of the Harmonised Transparency Template (HTT)?
B7: Response 1 | C7: The HTT contains 5 main worksheets (A, B1, B2, B3 and C). The first worksheet (A) includes the HTT general information. The second worksheet (B1) presents the mortgage information. The third worksheet (B2) contains the public sector information. The fourth worksheet (B3) contains shipping information.The fifth worksheet (C) represents the HTT glossary, which has a harmonised section across jurisdictionsat the top, but also a section for national specificities below. Any additional tabs (D, E, etc.), will contain the National Transparency Template (NTT) information where relevant.
A8: Question 2: Is the HTT going to replace the National Transparency Template (NTT)?
B9: Response 2 | C9: The HTT is compulsory in order to be considered Covered Bond Label compliant. The NTT can be added in order to provide further information at national discretion.
A10: Question 3: What is the reporting frequency of the HTT?
B11: Response 3 | C11: The reporting of the HTT is the same as the reporting of the National Transparency Template (NTT), i.e. at least quarterly.
A12: Question 4: Where should the HTT be posted?
B13: Response 4 | C13: The HTT should be posted in the same location as the National Transparency Template (NTT) is currently posted, i.e. on the issuer's website. There is no common platform for the HTT.
A14: Question 5: In what format the HTT should be disclosed?
B15: Response 5 | C15: The HTT should be disclosed in Excel format in so far as it is possible, as already suggested by the Label Advisory Council and investors. Where issuers are currently providing the Template in both Excel and PDF formats, they are encouraged to continue to do so.
A16: Question 6: Where can I find the reporting date?
B17: Response 6 | C17: The reporting date can be found in the Introduction Tab and in the "Basic Facts" section of worksheet A.
A18: Question 7: What happens when I cannot complete a section of the HTT?
B19: Response 7 | C19: When the information is either (i) not applicable for the jurisdiction, (ii) not relevant for the issuer and/or CB programme at the present time; (iii) not available at the present time; or (iv) confidential. Issuers are kindly requested to include ND1, ND2, ND3 or ND4 respectively.
A20: Specific Questions
A21: Question 8: Does the Harmonised Transparency Template only contain disaggregated information for mortgages and public sector?
B22: Response 8 | C22: Indeed, the HTT only provides disaggregated information for mortgage and public sector assets which represent 99.6% of total outstanding. Information in more detail on other collateral types can always be included in worksheet E, which may contains the National Transparency Template (NTT).
A23: Question 9: How should the "liquid assets" be calculated in the section 3 "General Cover Pool / Covered Bond Information" of the HTT?
B24: Response 9 | C24: Liquid assets are defined as central bank eligible assets, substitute and other marketable assets. This total is calculated over both outstanding covered bonds and outstanding cover assets.
A25: Question 10: How should the "expected" and "contractual" columns of the "Cover pool amortisation profile" be understood?
B26: Response 10 | C26: Contractual maturities assume no prepayment scenario unlike expected maturities. Jurisdictions/issuers publishing the two should disclosed their prepayment assumptions for the latter.
A27: Question 11: How should the hedging columns included in section 3 "General Cover Pool / Covered Bond Information" of the HTT be understood?
B28: Response 11 | C28: The currency breakdown before/after hedging aims to assess the potential currency mismatch on the asset and liability sides. This is supplemented by explanations on the issuer's hedging strategy in the Harmonised Glossary.
A29: Question 12: How should the cover assets and covered bonds distribution by currency be populated in section 3.6 and 3.7 in Tab A. HTT General?
B30: Response 12 | C30: In the columns titled "Nominal [before hedging]" and "Nominal [after hedging]" if there is no hedging activity also the amounts for the single currencies should be the same in the two columns. Should there be hedging activity then the currency into which the outstanding has been swapped will receive the respective amount. For example, if all outstanding have been swapped into one currency, only this currency will see a positive amount in the after hedging section. The sum of the columns must match the figures reported under "Total Cover Assets", respectively "Outstanding Covered Bonds" in Section 3.1 of Tab A. HTT General.
A31: Question 13: How should the covered bonds distribution by interest rate be populated in section 3.8 in Tab A. HTT General?
B32: Response 13 | C32: In the columns titled "Nominal [after hedging]", all amounts must be inserted in the line for the interest rate type they have been swapped into. For example, if all outstanding amounts have been swapped into floating rate, only this line should be filled. Total amounts should show the same figures both before and after hedging.
A33: Question 14: How should arrears be populated in Tab E. Optional ECB-ECAIs data?
B34: Response 14 | C34: Performing loans should be excluded from the "1-<30 days" bucket. If a loan is in arrears, please report the entire principal amount for the loan, not just the instalment that is in arrears.
A35: Question 15: What is the Cover Pools' FIGI identifier and where can I find it?
B36: Response 15 | C36: FIGI is a 12-character alphanumeric ID used to differentiate and map information associated to cover pools. Each pool has a unique FIGI ID which cannot be re-used. You can search for existing FIGI ID's for cover pools on the Bloomberg Terminal or on the openfigi.com webpage. Bloomberg is a certified provider and will facilitate to request a FIGI ID for new pools. Requests can be send with relevant documentation via email to emeacapmkts@bloomberg.net. We would like to underline that the inclusion of the FIGI number in your HTT is on a voluntary basis.

Sheet A. HTT General
A1: A. Harmonised Transparency Template - General Information | F1: HTT 2026
B3: Reporting in Domestic Currency | C3: GBP
B5: CONTENT OF TAB A
B6: 1. Basic Facts
B7: 2. Regulatory Summary
B8: 3. General Cover Pool / Covered Bond Information | F8: `
B9: 4. Compliance Art 14 CBD Check Table
B10: 5. References to Capital Requirements Regulation (CRR) 129(1)
B11: 6. Other relevant information
A13: Field Number | B13: 1. Basic Facts
A14: G.1.1.1 | B14: Country | C14: United Kingdom
A15: G.1.1.2 | B15: Issuer Name | C15: Coventry Building Society
A16: G.1.1.3 | B16: Labelled Cover Pool Name | C16: Coventry Building Society Covered Bond Programme
A17: G.1.1.4 | B17: Link to Issuer's Website | C17: http://www.coventrybuildingsociety.co.uk/
A18: G.1.1.5 | B18: Cut-off date | C18: 46295
A19: G.1.1.6 | B19: Cover Pool's FIGI Identifier (non-mandatory) | C19: ND2
A20: OG.1.1.2 | B20: Optional information e.g. Contact names | C20: Paul Rathbone (Head of Capital Markets & Investor Relations) | D20: Capital Markets Team
A21: OG.1.1.3 | B21: Optional information e.g. Parent name | C21: +44 7834 445 565
A22: OG.1.1.4 | C22: paul.rathbone@co-operativebank.co.uk | D22: CapitalMarkets@thecoventry.co.uk
A23: OG.1.1.5
A24: OG.1.1.6
A25: OG.1.1.7
B26: 2. Regulatory Summary
A27: G.2.1.1 | B27: Basel Compliance, subject to national jurisdiction (Y/N) | C27: Y
A28: G.2.1.2 | B28: CBD Compliance | C28: Y
A29: G.2.1.3 | B29: CRR Compliance (Y/N) | C29: Y
A30: OG.2.1.1 | B30: LCR status | C30: https://coveredbondlabel.com/issuer/39-coventry-building-society
A31: OG.2.1.2
A32: OG.2.1.3
A33: OG.2.1.4
A34: OG.2.1.5
A35: OG.2.1.6
B36: 3. General Cover Pool / Covered Bond Information
B37: 1.General Information | C37: Nominal (mn)
A38: G.3.1.1 | B38: Total Cover Assets | C38: 9744.6741
A39: G.3.1.2 | B39: Outstanding Covered Bonds | C39: 5947.983
A40: OG.3.1.1 | B40: Cover Pool Size [NPV] (mn) | C40: ND1
A41: OG.3.1.2 | B41: Outstanding Covered Bonds [NPV] (mn) | C41: ND1
A42: OG.3.1.3
A43: OG.3.1.4
...

Sheet B1. HTT Mortgage Assets
A1: B1. Harmonised Transparency Template - Mortgage Assets | F1: HTT 2026
B3: Reporting in Domestic Currency | C3: GBP
B5: CONTENT OF TAB B1
B6: 7. Mortgage Assets
B7: 7.A Residential Cover Pool
B8: 7.B Commercial Cover Pool
A10: Field Number | B10: 7. Mortgage Assets
B11: 1. Property Type Information | C11: Nominal (mn) | F11: % Total Mortgages
A12: M.7.1.1 | B12: Residential | C12: 9453.5731 | F12: 1
A13: M.7.1.2 | B13: Commercial | C13: 0 | F13: 0
A14: M.7.1.3 | B14: Other | C14: 0 | F14: 0
A15: M.7.1.4 | B15: Total | C15: 9453.5731 | F15: 1
A16: OM.7.1.1 | B16: o/w Housing Cooperatives / Multi-family assets | F16: 0
A17: OM.7.1.2 | B17: o/w Forest & Agriculture | F17: 0
A18: OM.7.1.3 | B18: o/w [If relevant, please specify] | F18: 0
A19: OM.7.1.4 | B19: o/w [If relevant, please specify] | F19: 0
A20: OM.7.1.5 | B20: o/w [If relevant, please specify] | F20: 0
A21: OM.7.1.6 | B21: o/w [If relevant, please specify] | F21: 0
A22: OM.7.1.7 | B22: o/w [If relevant, please specify] | F22: 0
A23: OM.7.1.8 | B23: o/w [If relevant, please specify] | F23: 0
A24: OM.7.1.9 | B24: o/w [If relevant, please specify] | F24: 0
A25: OM.7.1.10 | B25: o/w [If relevant, please specify] | F25: 0
A26: OM.7.1.11 | B26: o/w [If relevant, please specify] | F26: 0
B27: 2. General Information | C27: Residential Loans | D27: Commercial Loans | F27: Total Mortgages
A28: M.7.2.1 | B28: Number of mortgage loans | C28: 58282 | D28: 0 | F28: 58282
A29: OM.7.2.1 | B29: Optional information eg, Number of borrowers
A30: OM.7.2.2 | B30: Optional information eg, Number of guarantors
A31: OM.7.2.3
A32: OM.7.2.4
A33: OM.7.2.5
A34: OM.7.2.6
B35: 3. Concentration Risks | C35: % Residential Loans | D35: % Commercial Loans | F35: % Total Mortgages
A36: M.7.3.1 | B36: 10 largest exposures | C36: 0.0010271829 | D36: 0 | F36: 0.0010271829
A37: OM.7.3.1
A38: OM.7.3.2
A39: OM.7.3.3
A40: OM.7.3.4
A41: OM.7.3.5
A42: OM.7.3.6
B43: 4. Breakdown by Geography | C43: % Residential Loans | D43: % Commercial Loans | F43: % Total Mortgages
...

Sheet B2. HTT Public Sector Assets
A1: B2. Harmonised Transparency Template - Public Sector Assets | F1: HTT 2026
B3: Reporting in Domestic Currency | C3: ND2
B5: CONTENT OF TAB B2
B6: 8. Public Sector Assets
A8: Field Number | B8: 8. Public Sector Assets
B9: 1. General Information
A10: PS.8.1.1 | B10: Number of public sector exposures | C10: ND2
A11: OPS.8.1.1 | B11: Optional information eg, Number of borrowers
A12: OPS.8.1.2 | B12: Optional information eg, Number of guarantors
A13: OPS.8.1.3
A14: OPS.8.1.4
A15: OPS.8.1.5
A16: OPS.8.1.6
A17: OPS.8.1.7
B18: 2. Size Information | C18: Nominal | D18: Number of Exposures | F18: % Public Sector Assets | G18: % No. of Exposures
A19: PS.8.2.1 | B19: Average exposure size (000s) | C19: ND2
B21: By buckets (mn):
A22: PS.8.2.2 | B22: ND2 | C22: ND2 | D22: ND2 | F22: =IF($C$37=0,"",IF(C22="[for completion]","",C22/$C$37)) | G22: =IF($D$37=0,"",IF(D22="[for completion]","",D22/$D$37))
A23: PS.8.2.3 | B23: ND2 | C23: ND2 | D23: ND2 | F23: =IF($C$37=0,"",IF(C23="[for completion]","",C23/$C$37)) | G23: =IF($D$37=0,"",IF(D23="[for completion]","",D23/$D$37))
A24: PS.8.2.4 | B24: ND2 | C24: ND2 | D24: ND2 | F24: =IF($C$37=0,"",IF(C24="[for completion]","",C24/$C$37)) | G24: =IF($D$37=0,"",IF(D24="[for completion]","",D24/$D$37))
A25: PS.8.2.5 | B25: ND2 | C25: ND2 | D25: ND2 | F25: =IF($C$37=0,"",IF(C25="[for completion]","",C25/$C$37)) | G25: =IF($D$37=0,"",IF(D25="[for completion]","",D25/$D$37))
A26: PS.8.2.6 | B26: ND2 | C26: ND2 | D26: ND2 | F26: =IF($C$37=0,"",IF(C26="[for completion]","",C26/$C$37)) | G26: =IF($D$37=0,"",IF(D26="[for completion]","",D26/$D$37))
A27: PS.8.2.7 | B27: ND2 | C27: ND2 | D27: ND2 | F27: =IF($C$37=0,"",IF(C27="[for completion]","",C27/$C$37)) | G27: =IF($D$37=0,"",IF(D27="[for completion]","",D27/$D$37))
A28: PS.8.2.8 | B28: ND2 | C28: ND2 | D28: ND2 | F28: =IF($C$37=0,"",IF(C28="[for completion]","",C28/$C$37)) | G28: =IF($D$37=0,"",IF(D28="[for completion]","",D28/$D$37))
A29: PS.8.2.9 | B29: ND2 | C29: ND2 | D29: ND2 | F29: =IF($C$37=0,"",IF(C29="[for completion]","",C29/$C$37)) | G29: =IF($D$37=0,"",IF(D29="[for completion]","",D29/$D$37))
A30: PS.8.2.10 | B30: ND2 | C30: ND2 | D30: ND2 | F30: =IF($C$37=0,"",IF(C30="[for completion]","",C30/$C$37)) | G30: =IF($D$37=0,"",IF(D30="[for completion]","",D30/$D$37))
A31: PS.8.2.11 | B31: ND2 | C31: ND2 | D31: ND2 | F31: =IF($C$37=0,"",IF(C31="[for completion]","",C31/$C$37)) | G31: =IF($D$37=0,"",IF(D31="[for completion]","",D31/$D$37))
A32: PS.8.2.12 | B32: ND2 | C32: ND2 | D32: ND2 | F32: =IF($C$37=0,"",IF(C32="[for completion]","",C32/$C$37)) | G32: =IF($D$37=0,"",IF(D32="[for completion]","",D32/$D$37))
A33: PS.8.2.13 | B33: ND2 | C33: ND2 | D33: ND2 | F33: =IF($C$37=0,"",IF(C33="[for completion]","",C33/$C$37)) | G33: =IF($D$37=0,"",IF(D33="[for completion]","",D33/$D$37))
... A36: PS.8.2.16 | B36: ND2 | C36: ND2 | D36: ND2 | F36: =IF($C$37=0,"",IF(C36="[for completion]","",C36/$C$37)) | G36: =IF($D$37=0,"",IF(D36="[for completion]","",D36/$D$37))
A37: PS.8.2.17 | B37: Total | C37: =SUM(C22:C36) -> 0 | D37: =SUM(D22:D36) -> 0 | F37: =SUM(F22:F36) -> 0 | G37: =SUM(G22:G36) -> 0
B38: 3. Breakdown by Asset Type | C38: Nominal (mn) | F38: % Public Sector Assets
A39: PS.8.3.1 | B39: Loans | C39: ND2 | F39: =IF($C$42=0,"",IF(C39="[for completion]","",C39/$C$42))
A40: PS.8.3.2 | B40: Bonds | C40: ND2 | F40: =IF($C$42=0,"",IF(C40="[for completion]","",C40/$C$42))
A41: PS.8.3.3 | B41: Other | C41: ND2 | F41: =IF($C$42=0,"",IF(C41="[for completion]","",C41/$C$42))
A42: PS.8.3.4 | B42: Total | C42: =SUM(C39:C41) -> 0 | F42: =SUM(F39:F41) -> 0
A43: OPS.8.3.1
A44: OPS.8.3.2
A45: OPS.8.3.3
A46: OPS.8.3.4
...

Sheet B3. HTT Shipping Assets
A1: B3. Harmonised Transparency Template - Shipping Assets | F1: HTT 2026
B3: Reporting in Domestic Currency | C3: ND2
B5: CONTENT OF TAB B3
B6: 9. Shipping Assets
A8: Field Number | B8: 9. Shipping Assets
B9: 1. General Information | C9: Shipping Loans
A10: S.9.1.1 | B10: Number of shipping loans | C10: ND2
A11: OS.9.1.1 | B11: Optional information eg, Number of borrowers
A12: OS.9.1.2 | B12: Optional information eg, Number of guarantors
A13: OS.9.1.3
A14: OS.9.1.4
A15: OS.9.1.5
A16: OS.9.1.6
B17: 2. Concentration Risks | C17: % Shipping Loans
A18: S.9.2.1 | B18: 10 largest exposures | C18: ND2
A19: OS.9.2.1
A20: OS.9.2.2
A21: OS.9.2.3
A22: OS.9.2.4
A23: OS.9.2.5
A24: OS.9.2.6
B25: 3. Breakdown by Geography / Country of Registration | C25: % Shipping Loans
A26: S.9.3.1 | B26: European Union | C26: 0
A27: S.9.3.2 | B27: Austria | C27: ND2
A28: S.9.3.3 | B28: Belgium | C28: ND2
A29: S.9.3.4 | B29: Bulgaria | C29: ND2
A30: S.9.3.5 | B30: Croatia | C30: ND2
A31: S.9.3.6 | B31: Cyprus | C31: ND2
A32: S.9.3.7 | B32: Czech Republic | C32: ND2
A33: S.9.3.8 | B33: Denmark | C33: ND2
A34: S.9.3.9 | B34: Estonia | C34: ND2
A35: S.9.3.10 | B35: Finland | C35: ND2
A36: S.9.3.11 | B36: France | C36: ND2
A37: S.9.3.12 | B37: Germany | C37: ND2
A38: S.9.3.13 | B38: Greece | C38: ND2
... A54: S.9.3.29 | B54: European Economic Area (not member of EU) | C54: ND2
A55: S.9.3.30 | B55: Iceland | C55: 0
A56: S.9.3.31 | B56: Liechtenstein | C56: ND2
A57: S.9.3.32 | B57: Norway | C57: ND2
A58: S.9.3.33 | B58: Other | C58: ND2
...

Sheet C. HTT Harmonised Glossary
A1: C. Harmonised Transparency Template - Glossary | C1: HTT 2026
A3: The definitions below reflect the national specificities
A5: Field Number | B5: 1. Glossary - Standard Harmonised Items | C5: [Insert Definition Below]
A6: HG.1.1 | B6: OC Calculation: Statutory | C6: Statutory Overcollateralisation is the overcollateralisation percentage required to be provided by each Issuer and included/disclosed in the national covered bond framework.
A7: HG.1.2 | B7: OC Calculation: Contractual | C7: Contractual Overcollateralisation is the overcollateralisation percentage each Issuer has contractually agreed to maintain pursuant to the covered bond programme documents.
A8: HG.1.3 | B8: OC Calculation: Voluntary | C8: Voluntary Overcollateralisation is the difference (if positive) between the actual overcollateralisation provided by an Issuer and the higher of the contractual and statutory overcollateralisation.
A9: HG.1.4 | B9: Interest Rate Types | C9: A Fixed rate is where the interest rate on the loan remains the same throughout an agreed period of the loan. A Floating rate is where the interest rate on the loan does not remain the same through the term of the loan (the rate may be derived from movements in a separate benchmark rate, for example Bank Base Rate or SONIA). 'Other' consists of Capped rate loans (a floating rate with an interest rate ceiling, or cap, beyond which rates cannot exceed) and Administered rate loans (a variable rate subject to change by the lender, in line with the terms of the loan).
A10: HG.1.5 | B10: Life of cover assets: how is it calculated? Does it only consider the final date of redemption or does it take into account scheduled redemptions for amortising assets? Is is calculated by reference to the next interest reset dates or by reference to the redemption dates ? If assets have a floating or resettable rate, which assumption do you make regarding the future applicable rate? | C10: Contractual Residual Life is defined as the time until the maturity of the mortgage when making the agreed interest and principal payment, i.e. no prepayment is assumed. Expected Residual Life is not estimated.
A11: HG.1.6 | B11: Maturity Buckets of Covered Bonds [i.e. how is the contractual and/or expected maturity defined? What maturity structure (hard bullet, soft bullet, conditional pass through)? Under what conditions/circumstances? Etc.] | C11: All bonds outstanding are of a soft bullet bond structure. Bonds can be extended to their extended final maturity date upon the issuer failing to repay principal on the scheduled maturity date. Maturity buckets reflect the scheduled final maturity date of the bonds, as per the final terms of each series. Details of the scheduled final maturity date and the extended final maturity date of each series of bonds in issue are included in Section D of this HTT.
A12: HG.1.7 | B12: Maturity Extention Triggers | C12: https://www.coventrybuildingsociety.co.uk/member/investor-relations/funding-programmes/covered-bonds-terms/reports.html
A13: HG.1.8 | B13: LTVs: Definition | C13: Loan amount divided by the valuation amount.
A14: HG.1.9 | B14: LTVs: Calculation of property/shipping value | C14: The LTV calculation is based on the most recent property valuation.
A15: HG.1.10 | B15: LTVs: Applied property/shipping valuation techniques, including whether use of index, Automated Valuation Model (AVM) or on-site audits | C15: Indexation is applied quarterly on a regional basis to property valuations each January, April, July, October. Properties are subject to valuation at the time of the granting of the original advance and upon granting of any further advance. The valuation type applicable is dependent on the Society's underwriting policy at that time, with the policy reflective of the size, location and type of property and the LTV applicable to any advance. At advance, properties will be subject to valuation by AVM, Remote Valuation or Full Valuation depending on these characteristics.
A16: HG.1.11 | B16: LTVs: Frequency and time of last valuation | C16: Unindexed LTV is calculated using the valuation at the time the mortgage was incepted, or the most recent valuation. Indexed LTV is calculated using the valuation at the time of the latest indexation (applied quarterly), or the most recent valuation.
... A20: HG.1.15 | B20: Valuation Method | C20: There are no non-performing loans in the pool.
A21: OHG.1.1 | B21: NPV assumptions (when stated)
A22: OHG.1.2
A23: OHG.1.3
A24: OHG.1.4
A25: OHG.1.5
A26: OHG.1.6
A27: OHG.1.7
B28: 2. Glossary - ESG items (optional) | C28: Definition
A29: HG.2.1 | B29: Sustainability - strategy pursued in the cover pool | C29: ND3
A30: HG.2.2 | B30: Subsidised Housing (definitions of affordable, social housing) | C30: ND3
A31: HG.2.3 | B31: New Property and Existing Property | C31: ND3
A32: OHG.2.1 | B32: Indication of proxy usage for ESG-related data (indicator, methodology, timing, share of proxy usage for single indicators etc.) | C32: Source: Hometrack and data is as of 27 September 2026
A33: OHG.2.2
A34: OHG.2.3
A35: OHG.2.4
A36: OHG.2.5
A37: OHG.2.6
A38: OHG.2.7
A39: OHG.2.8
A40: OHG.2.9
A41: OHG.2.10
A42: OHG.2.11
A43: OHG.2.12
B44: 3. Reason for No Data | C44: Value
A45: HG.3.1 | B45: Not applicable for the jurisdiction | C45: ND1
...

Sheet D. Insert Nat Trans Templ
A1: =B10 -> 46295
A5: Name of issuer | B5: Coventry Building Society
A6: Name of RCB programme | B6: Coventry Building Society
A7: Name, job title and contact details of person validating this form | B7: Paul Rathbone (Head of Capital Markets & Investor Relations) Telephone: +44 7834 445 565 E-mail: paul.rathbone@co-operativebank.co.uk Mailing Address: Oakfield House, Binley Business Park, Harry Weston Road, Coventry, CV3 2TQ
A8: Date of form submission | B8: 46326
A9: Start Date of reporting period | B9: 46266
A10: End Date of reporting period | B10: 46295
A11: Web links - prospectus, transaction documents, loan-level data | B11: https://live.irooms.net/CoventryBuildingSociety/
A13: Counterparties, Ratings
B14: Counterparty/ies | E14: Fitch | G14: Moody's | I14: S&P | K14: DBRS
E15: Rating trigger | F15: Current rating | G15: Rating trigger | H15: Current rating | I15: Rating trigger | J15: Current rating | K15: Rating trigger | L15: Current rating
A16: Covered bonds | E16: N/A | F16: AAA | G16: N/A | H16: Aaa | I16: NR | J16: NR | K16: NR | L16: NR
A17: Issuer | B17: Coventry Building Society | E17: N/A | F17: A | G17: N/A | H17: A3 | I17: NR | J17: NR | K17: NR | L17: NR
A18: Seller(s) | B18: Coventry Building Society | E18: N/A | F18: A | G18: N/A | H18: A3 | I18: NR | J18: NR | K18: NR | L18: NR
A19: Cash manager | B19: Coventry Building Society | E19: BBB | F19: A | G19: Baa1 | H19: A3 | I19: NR | J19: NR | K19: NR | L19: NR
A20: Account bank | B20: HSBC Bank plc | E20: F1 | F20: F1+ | G20: P-1 | H20: P-1 | I20: N/A | J20: N/A | K20: NR | L20: NR
A21: Stand-by account bank | B21: N/A | E21: N/A | F21: N/A | G21: N/A | H21: N/A | I21: N/A | J21: N/A | K21: N/A | L21: N/A
A22: Servicer(s) | B22: Coventry Building Society | E22: BBB | F22: A | G22: Baa1 | H22: A3 | I22: NR | J22: NR | K22: NR | L22: NR
A23: Stand-by servicer(s) | B23: N/A | E23: N/A | F23: N/A | G23: N/A | H23: N/A | I23: N/A | J23: N/A | K23: N/A | L23: N/A
A24: Swap provider(s) on cover pool | B24: Coventry Building Society | E24: A- | F24: A | G24: A2 | H24: A3 | I24: NR | J24: NR | K24: NR | L24: NR
A25: Stand-by swap provider(s) on cover pool | B25: N/A | E25: N/A | F25: N/A | G25: N/A | H25: N/A | I25: N/A | J25: N/A | K25: N/A | L25: N/A
A26: Swap notional amount(s) (GBP) | B26: £7,157,588,664 £645,412,500 £434,125,758 £416,319,734 £652,125,000
A27: Swap notional maturity/ies | B27: 02/08/2066 07/07/2028 07/12/2026 01/10/2029 15/04/2031
A28: LLP receive rate/margin | B28: 4.92758% 1.02000% 4.44250% 4.26700% 4.57600%
A29: LLP pay rate/margin | B29: 3.88216% 3.88216% 3.88216% 3.88216% 3.88216%
A30: Collateral posting amount(s) (GBP) | B30: 5.212694e+08
A32: Accounts, Ledgers
B33: Value as of End Date of reporting period | C33: Value as of Start Date of reporting period | D33: Targeted Value
A34: Revenue receipts (please disclose all parts of waterfall) | B34: AVAILABLE REVENUE RECEIPTS (a) Revenue Receipts - Interest received from Borrowers: £29,953,196 (a) Revenue Receipts - Fees charged to Borrowers: £541,599 (b) Interest received: £1,553,260 (c) Excess Reserve Fund: £17,538,284 (d) Other Revenue Receipts : £4,698 (e) Excess Required Coupon Amount: £0 (f) Reserve Ledger credit amounts following Notice to Pay: £0 (g) Amounts Belonging to Third Parties: -£541,599 (h) Required Coupon Amount: £0 (i) Interest Accumulation Ledger: £0 Total Available Revenue Receipts: £49,049,437 PRE-ACCELERATION REVENUE PRIORITY OF PAYMENTS (a) Fees due to Bond Trustee and Security Trustee: £0 (b) Fees due to Agent: £0 (c) Amounts due to Servicer, Cash Manager, Standby Account Bank, Corporate Services Provider and Asset Monitor: £12,224 (d) Amounts due to the Interest Rate Swap Provider: -£7,670,573 (e) (i) Amounts due to/(from) the Covered Bond Swap Providers: £20,217,068 (ii) Amounts due on the Term Advance: £17,394,700 (f) Transfer to Coupon Payment Ledger following Cash Manager Event: £0 (g) Transfer to Standby GIC Account following Servicer Event of Default: £0 (h) Transfer to Reserve Ledger: £0 (i) Excluded Swap Termination Amounts: £0 (j) Indemnity amounts due to the Members: £0 (k) Repayment of Cash Capital Contributions : £0 (l) Deferred Consideration: £19,096,018 (m) Fees due to the Liquidation Member: £0 (n) Members profit amount: £0 | C34: AVAILABLE REVENUE RECEIPTS (a) Revenue Receipts - Interest received from Borrowers: £28,223,587 (a) Revenue Receipts - Fees charged to Borrowers: £382,837 (b) Interest received: £902,201 (c) Excess Reserve Fund: £0 (d) Other Revenue Receipts : £19,291,574 (e) Excess Required Coupon Amount: £0 (f) Reserve Ledger credit amounts following Notice to Pay: £0 (g) Amounts Belonging to Third Parties: -£382,837 (h) Required Coupon Amount: £0 (i) Interest Accumulation Ledger: £0 Total Available Revenue Receipts: : £48,417,362 PRE-ACCELERATION REVENUE PRIORITY OF PAYMENTS (a) Fees due to Bond Trustee and Security Trustee: £7,200 (b) Fees due to Agent: £0 (c) Amounts due to Servicer, Cash Manager, Standby Account Bank, Corporate Services Provider and Asset Monitor: £0 (d) Amounts due to the Interest Rate Swap Provider: -£5,449,148 (e) (i) Amounts due to/(from) the Covered Bond Swap Providers: £2,370,948 (ii) Amounts due on the Term Advance: £13,468,700 (f) Transfer to Coupon Payment Ledger following Cash Manager Event: £0 (g) Transfer to Standby GIC Account following Servicer Event of Default: £0 (h) Transfer to Reserve Ledger: £19,156,355 (i) Excluded Swap Termination Amounts: £0 (j) Indemnity amounts due to the Members: £0 (k) Repayment of Cash Capital Contributions : £0 (l) Deferred Consideration: £18,863,308 (m) Fees due to the Liquidation Member: £0 (n) Members profit amount: £0
A35: Principal receipts (please disclose all parts of waterfall) | B35: AVAILABLE PRINCIPAL RECEIPTS (a) Scheduled amounts received from Borrowers: £42,091,953 Unscheduled amounts received from Borrowers: £130,558,304 Less Further Advances made: £0 (b) (i) Term Advance: £0 (ii) Cash Capital Contributions: £0 (iii) Sale of Selected Loans: £0 Total Available Principal Receipts: £172,650,256 PRE-ACCELERATION PRINCIPAL PRIORITY OF PAYMENTS (a) Purchase of New Loans or Substitution Assets: £0 (b) Transfer to Principal Ledger : £0 (c) (i) Amounts due to the Covered Bond Swap Providers: £0 (ii) Amounts due on the Term Advance: £0 (d) Capital Distribution to Members: £172,650,256 | C35: AVAILABLE PRINCIPAL RECEIPTS (a) Scheduled amounts received from Borrowers: £35,015,108 Unscheduled amounts received from Borrowers: £52,895,545 Less Further Advances made: £0 (b) (i) Term Advance: £0 (ii) Cash Capital Contributions: £0 (iii) Sale of Selected Loans: £0 Total Available Principal Receipts: £87,910,653 PRE-ACCELERATION PRINCIPAL PRIORITY OF PAYMENTS (a) Purchase of New Loans or Substitution Assets: £0 (b) Transfer to Principal Ledger : £0 (c) (i) Amounts due to the Covered Bond Swap Providers: £0 (ii) Amounts due on the Term Advance: £0 (d) Capital Distribution to Members: £87,910,653
A36: Reserve ledger | B36: 85402661 | C36: 66246307 | D36: 85402661
A37: Revenue ledger | B37: 33048054 | C37: 30508626
A38: Principal ledger | B38: 1.7265026e+08 | C38: 87910653
A39: Pre-maturity liquidity ledger | B39: N/A | C39: N/A | D39: N/A
A41: Asset Coverage Test*
B42: Value | C42: Description (please edit if different)
A43: A | B43: 8.506565e+09 | C43: A: Arrears Adjusted True Balance
A44: B | B44: 62650256 | C44: B: Principal Receipts Retained in Cash
A45: C | B45: 0 | C45: C: Retained Cash Contributions
A46: D | B46: 110000000 | C46: D: Substitution Assets - Principal Receipts¹ & D: Substitution Assets - Capital Contributions
...

Sheet E. Optional EBC-ECAIs Data
A1: This addendum is optional
A2: E. Harmonised Transparency Template - Optional ECB - ECAIs Data Disclosure | F2: HTT 2026
B4: Reporting in Domestic Currency | C4: GBP
B6: CONTENT OF TAB E
B7: 1. Additional information on the programme
B8: 2. Additional information on the swaps
B9: 3. Additional information on the asset distribution
A12: Field Number | B12: 1. Additional information on the programme
B13: Transaction Counterparties | C13: Name | D13: Legal Entity Identifier (LEI)
A14: E.1.1.1 | B14: Sponsor (if applicable) | C14: ND2 | D14: ND2
A15: E.1.1.2 | B15: Servicer | C15: Coventry Building Society | D15: 2138004G59FXEAZ6IO10
A16: E.1.1.3 | B16: Back-up servicer | C16: ND2 | D16: ND2
A17: E.1.1.4 | B17: BUS facilitator | C17: CSC Management (UK) Limited | D17: ND2
A18: E.1.1.5 | B18: Cash manager | C18: Coventry Building Society | D18: 2138004G59FXEAZ6IO10
A19: E.1.1.6 | B19: Back-up cash manager | C19: ND2 | D19: ND2
A20: E.1.1.7 | B20: Account bank | C20: HSBC Bank plc | D20: 21380081EP12LC86CB82
A21: E.1.1.8 | B21: Standby account bank | C21: HSBC Bank plc | D21: 21380081EP12LC86CB82
A22: E.1.1.9 | B22: Account bank guarantor | C22: ND2 | D22: ND2
A23: E.1.1.10 | B23: Trustee | C23: HSBC Corporate Trustee Company (UK) Ltd | D23: 213800B7574JY87RFX94
A24: E.1.1.11 | B24: Cover Pool Monitor | C24: Deloitte LLP | D24: 213800GFW5ZLF5G5OH34
A25: OE.1.1.1 | B25: where applicable - paying agent | C25: HSBC Bank plc | D25: 21380081EP12LC86CB82
A26: OE.1.1.2
A27: OE.1.1.3
A28: OE.1.1.4
A29: OE.1.1.5
A30: OE.1.1.6
A31: OE.1.1.7
A32: OE.1.1.8
B33: 2. Additional information on the swaps
B34: Swap Counterparties | C34: Guarantor (if applicable) | D34: Legal Entity Identifier (LEI)* | E34: Type of Swap
A35: E.2.1.1 | B35: Banco Santander S.A. | C35: ND2 | D35: 5493006QMFDDMYWIAM13 | E35: Interest & FX
A36: E.2.1.2 | B36: Bank of Montreal | C36: ND2 | D36: NQQ6HPCNCCU6TUTQYE16 | E36: Interest & FX
A37: E.2.1.3 | B37: Coventry Building Society | C37: ND2 | D37: 2138004G59FXEAZ6IO10 | E37: Interest
A38: E.2.1.4 | B38: HSBC Bank plc | C38: ND2 | D38: 21380081EP12LC86CB82 | E38: Interest & FX
A39: E.2.1.5 | B39: Natixis | C39: ND2 | D39: KX1WK48MPD4Y2NCUIZ63 | E39: Interest & FX
A40: E.2.1.6
A41: E.2.1.7
A42: E.2.1.8
A43: E.2.1.9
A44: E.2.1.10
...

Sheet F1. Sustainable M data
A1: F1. Harmonised Transparency Template - Sustainable Mortgage Data | F1: HTT 2026
B3: Reporting in Domestic Currency | C3: GBP
B5: CONTENT OF TAB F1
B6: 1. Share of sustainable loans in the total mortgage program
B7: 2. Additional information on the sustainable section of the mortgage stock
B8: 2A. Sustainable Residential Cover Pool
B9: 2B. Sustainable Commercial Cover Pool
B13: 1. Share of sustainable loans in the total mortgage program
B14: 1. Amount of sustainable loans | C14: Nominal (mn) | D14: Number of loans | F14: % Nominal (mn) to total mortgage program | G14: % No. of Loans to total mortgage program
A15: SM.1.1.1 | B15: EE mortgage loans | C15: ND2 | D15: ND2 | F15: =IF(OR('B1. HTT Mortgage Assets'!$C$15=0,C15="ND2"),"",C15/'B1. HTT Mortgage Assets'!$C$15) | G15: =IF(OR('B1. HTT Mortgage Assets'!$F$28=0,D15="ND2"),"",D15/'B1. HTT Mortgage Assets'!$F$28)
A16: SM.1.1.2 | B16: Social impact mortgage loans | C16: ND2 | D16: ND2 | F16: =IF(OR('B1. HTT Mortgage Assets'!$C$15=0,C16="ND2"),"",C16/'B1. HTT Mortgage Assets'!$C$15) | G16: =IF(OR('B1. HTT Mortgage Assets'!$F$28=0,D16="ND2"),"",D16/'B1. HTT Mortgage Assets'!$F$28)
A17: SM.1.1.3 | B17: other | C17: ND2 | D17: ND2 | F17: =IF(OR('B1. HTT Mortgage Assets'!$C$15=0,C17="ND2"),"",C17/'B1. HTT Mortgage Assets'!$C$15) | G17: =IF(OR('B1. HTT Mortgage Assets'!$F$28=0,D17="ND2"),"",D17/'B1. HTT Mortgage Assets'!$F$28)
A18: SM.1.1.4 | B18: Total sustainable mortgage loans | C18: =SUM(C15:C17) -> 0 | D18: =SUM(D15:D17) -> 0 | F18: =SUM(F15:F17) -> 0 | G18: =SUM(G15:G17) -> 0
A19: SM. 1.1.5 | B19: Outstanding Sustainable Covered Bonds
A20: OSM.1.1.1 | B20: o/w [If relevant, please specify]
A21: OSM.1.1.2 | B21: o/w [If relevant, please specify]
A22: OSM.1.1.3 | B22: o/w [If relevant, please specify]
A23: OSM.1.1.4 | B23: o/w [If relevant, please specify]
B24: 2. Additional information on the sustainable section of the mortgage stock
B25: 1. Sustainable Property Type Information | C25: Nominal (mn) | F25: % Total sustainable Mortgages
A26: SM.2.1.1 | B26: Residential | C26: ND2 | F26: =IF($C$29=0,"",IF(C26="ND2","",C26/$C$29))
A27: SM.2.1.2 | B27: Commercial | C27: ND2 | F27: =IF($C$29=0,"",IF(C27="ND2","",C27/$C$29))
A28: SM.2.1.3 | B28: Other | C28: ND2 | F28: =IF($C$29=0,"",IF(C28="ND2","",C28/$C$29))
A29: SM.2.1.4 | B29: Total | C29: =SUM(C26:C28) -> 0 | F29: =SUM(F26:F28) -> 0
A30: OSM.2.1.1 | B30: o/w Forest & Agriculture | F30: =IF($C$29=0,"",IF(C30="ND2","",C30/$C$29))
A31: OSM.2.1.2 | B31: o/w EE residential | F31: =IF($C$29=0,"",IF(C31="ND2","",C31/$C$29))
A32: OSM.2.1.3 | B32: o/w EE commercial | F32: =IF($C$29=0,"",IF(C32="ND2","",C32/$C$29))
A33: OSM.2.1.4 | B33: o/w EE other | F33: =IF($C$29=0,"",IF(C33="ND2","",C33/$C$29))
A34: OSM.2.1.5 | B34: EE total | F34: =IF($C$29=0,"",IF(C34="ND2","",C34/$C$29))
A35: OSM.2.1.6 | B35: o/w Social residential | F35: =IF($C$29=0,"",IF(C35="ND2","",C35/$C$29))
A36: OSM.2.1.7 | B36: o/wSocial Commercial | F36: =IF($C$29=0,"",IF(C36="ND2","",C36/$C$29))
A37: OSM.2.1.8 | B37: o/w social other | F37: =IF($C$29=0,"",IF(C37="ND2","",C37/$C$29))
A38: OSM.2.1.9 | B38: social tot | F38: =IF($C$29=0,"",IF(C38="ND2","",C38/$C$29))
A39: OSM.2.1.10 | B39: o/w Renewable Energy and Renewable Energy Transmission | F39: =IF($C$29=0,"",IF(C39="ND2","",C39/$C$29))
A40: OSM.2.1.11 | B40: o/w [If relevant, please specify]
A41: OSM.2.1.12 | B41: o/w [If relevant, please specify]
A42: OSM.2.1.13 | B42: o/w [If relevant, please specify]
A43: OSM.2.1.14 | B43: o/w [If relevant, please specify]
A44: OSM.2.1.15 | B44: o/w [If relevant, please specify]
A45: OSM.2.1.16 | B45: o/w [If relevant, please specify]
...

Sheet F2. Sustainable PS data
A1: F2. Harmonised Transparency Template - Sustainable Public Sector Assets | F1: HTT 2026
B3: Reporting in Domestic Currency | C3: [Please insert currency]
B5: CONTENT OF TAB F2
B6: 1. Share of sustainable Public Sector Assets
B7: 2. Sustainable Public Sector Assets
B9: 1. Share of sustainable public sector assets in the total cover pool program
B10: 1. Amount of sustainable loans | C10: Nominal (mn) | D10: Number of loans | F10: % Nominal (mn) to total Public Sector program | G10: % No. of Loans to total Public Sector program
A11: SPS.1.1.1 | B11: Green Public Sector exposures | C11: ND2 | D11: ND2
A12: SPS.1.1.2 | B12: o/w Local Communities | C12: ND2 | D12: ND2
A13: SPS.1.1.3 | B13: o/w Hospitals | C13: ND2 | D13: ND2
A14: SPS.1.1.4 | B14: o/w Export Credit | C14: ND2 | D14: ND2
B15: o/w other | C15: ND2 | D15: ND2
A16: SPS.1.1.5 | B16: Social Public Sector exposures | C16: ND2 | D16: ND2
A17: SPS.1.1.6 | B17: o/w Local Communities | C17: ND2 | D17: ND2
A18: SPS.1.1.7 | B18: o/w Hospitals | C18: ND2 | D18: ND2
A19: SPS.1.1.8 | B19: o/w Export Credit | C19: ND2 | D19: ND2
B20: o/w other | C20: ND2 | D20: ND2
A21: SPS.1.1.9 | B21: other | C21: ND2 | D21: ND2
A22: SPS.1.1.10 | B22: Total sustainable Public Sector exposures | C22: =SUM(C11,C16,C21) -> 0 | D22: =SUM(D11,D16,D21) -> 0 | F22: =SUM(F11:F21) -> 0 | G22: =SUM(G11:G21) -> 0
A23: OSPS.1.1.1 | B23: o/w [If relevant, please specify]
A24: OSPS.1.1.2 | B24: o/w [If relevant, please specify]
A25: OSPS.1.1.3 | B25: o/w [If relevant, please specify]
A26: OSPS.1.1.4 | B26: o/w [If relevant, please specify]
A27: OSPS.1.1.5 | B27: o/w [If relevant, please specify]
B30: 2. Type of use of sustainable loans | C30: Nominal (mn) | D30: Number of loans | F30: % Nominal (mn) to total Public Sector program | G30: % No. of Loans to total Public Sector program
A31: SPS.1.2.1 | B31: Renewable energy | C31: ND2 | D31: ND2
A32: SPS.1.2.2 | B32: Energy efficiency | C32: ND2 | D32: ND2
A33: SPS.1.2.3 | B33: Pollution prevention and control | C33: ND2 | D33: ND2
A34: SPS.1.2.4 | B34: Ecologically sustainable management of living natural resources and land use | C34: ND2 | D34: ND2
A35: SPS.1.2.5 | B35: Conservation of terrestrial and marine biodiversity | C35: ND2 | D35: ND2
A36: SPS.1.2.6 | B36: Clean transportation/mobility | C36: ND2 | D36: ND2
A37: SPS.1.2.7 | B37: Sustainable (waste) water management | C37: ND2 | D37: ND2
A38: SPS.1.2.8 | B38: Adaptation to climate change | C38: ND2 | D38: ND2
A39: SPS.1.2.9 | B39: Environmentally efficient products and/or products, product technologies and processes suitable for the circular economy | C39: ND2 | D39: ND2
A40: SPS.1.2.10 | B40: Financially viable basic infrastructure | C40: ND2 | D40: ND2
A41: SPS.1.2.11 | B41: Access to basic social services | C41: ND2 | D41: ND2
A42: SPS.1.2.12 | B42: Affordable housing | C42: ND2 | D42: ND2
... A46: SPS.1.2.16 | B46: Access to healthcare services | C46: ND2 | D46: ND2
A47: SPS.1.2.17 | B47: Total sustainable Public Sector exposures | C47: =SUM(C31:C46) -> 0 | D47: =SUM(D31:D46) -> 0 | F47: =SUM(F31:F40) -> 0 | G47: =SUM(G31:G46) -> 0
B49: 2. Sustainable Public Sector Assets
...

Sheet E.g. General

Sheet E.g. Other
